BEGIN:VCALENDAR
PRODID:-//PUBBLE//agenda//NL
VERSION:2.0
METHOD:PUBLISH
BEGIN:VEVENT
DTSTART:20251117T104915Z
DTEND:20260604T160000Z
DTSTAMP:20260424T133012Z
UID:d99ee7ed-7cbe-429b-8cfb-945cee85fe37
CREATED:20260424T133012Z
NAME:Haak mee met de Bieb-Hakers! mooibernheze.nl
X-WR-CALNAME:Haak mee met de Bieb-Hakers!
X-ALT-DESC;FMTTYPE=text/html:<a href='/agenda/2026/6/4/haak-mee-met-de-bieb-hakers--73710'>/agenda/2026/6/4/haak-mee-met-de-bieb-hakers--73710</a> || <p>Doe mee! Van beginners tot zeer ervaren hakers. Onder begeleiding van een ervaren haakster kun je gezellig aan de slag met haak- en breinaalden. Kun je nog niet zo goed haken? Dat is geen probleem! Er zijn altijd hulpvaardige mensen aanwezig die je op weg kunnen helpen.</p><p>De groep bestaat uit beginnende tot zeer ervaren haaksters en breisters. Je kunt technieken en ideeën uitwisselen en nieuwe technieken leren. Ondertussen is er tijd voor koffie, thee en gezelligheid. Wil jij haken uitproberen? De Bibliotheek heeft diverse boeken en er is materiaal aanwezig om mee te oefenen. Aan ervaren hakers de vraag om zelf materialen mee te nemen.</p><p>Van jong tot oud, van beginnende tot ervaren haaksters; iedereen is van harte welkom bij de Bieb-Hakers. Heb je interesse in (of een vraag over) haken of breien; haak gerust aan!</p>
DESCRIPTION:<a href='/agenda/2026/6/4/haak-mee-met-de-bieb-hakers--73710'>/agenda/2026/6/4/haak-mee-met-de-bieb-hakers--73710</a> || <p>Doe mee! Van beginners tot zeer ervaren hakers. Onder begeleiding van een ervaren haakster kun je gezellig aan de slag met haak- en breinaalden. Kun je nog niet zo goed haken? Dat is geen probleem! Er zijn altijd hulpvaardige mensen aanwezig die je op weg kunnen helpen.</p><p>De groep bestaat uit beginnende tot zeer ervaren haaksters en breisters. Je kunt technieken en ideeën uitwisselen en nieuwe technieken leren. Ondertussen is er tijd voor koffie, thee en gezelligheid. Wil jij haken uitproberen? De Bibliotheek heeft diverse boeken en er is materiaal aanwezig om mee te oefenen. Aan ervaren hakers de vraag om zelf materialen mee te nemen.</p><p>Van jong tot oud, van beginnende tot ervaren haaksters; iedereen is van harte welkom bij de Bieb-Hakers. Heb je interesse in (of een vraag over) haken of breien; haak gerust aan!</p>
LAST-MODIFIED:20260424T133012Z
LOCATION: Bibliotheek | De Misse 2 Heesch
SEQUENCE:0
STATUS:CONFIRMED
SUMMARY:Haak mee met de Bieb-Hakers!
TRANSP:OPAQUE
END:VEVENT
END:VCALENDAR
