BEGIN:VCALENDAR
PRODID:-//PUBBLE//agenda//NL
VERSION:2.0
METHOD:PUBLISH
BEGIN:VEVENT
DTSTART:20250124T181500Z
DTEND:20250124T201500Z
DTSTAMP:20260419T134352Z
UID:185099cb-c11c-4c1c-a922-a2a4a37a388f
CREATED:20260419T134352Z
NAME:Documentaire ‘Echte vrienden, 30 jaar BZB’ mooibernheze.nl
X-WR-CALNAME:Documentaire ‘Echte vrienden, 30 jaar BZB’
X-ALT-DESC;FMTTYPE=text/html:<a href='/agenda/2025/1/24/documentaire-echte-vrienden-30-jaar-bzb-68129'>/agenda/2025/1/24/documentaire-echte-vrienden-30-jaar-bzb-68129</a> || <p>“Ontdek het hartverwarmende verhaal van ‘30 Jaar BZB: Echte vrienden’, een documentaire die de onbreekbare vriendschaptussen de bandleden van BZB (Band Zonder Banaan) in de schijnwerpers zet.Deze film neemt je mee op een muzikale reis door het jubileumjaar en laat je meekijken hoe de bandleden door de jaren heen de basis legde voor hun succes. Van vergaderingentot de grootste podia, beleef hoe de onderlinge band van de mannen hen door dik en dun heeft gedragen en hoe ze samen tot de jubileumshow zijn gekomen. “Echte vrienden” is een inspirerend eerbetoon aan de kracht van vriendschap en de magie die ontstaat als echte vrienden samen hun passie delen”Na de vertoning van de documentaire vindt er een Q&amp;A plaats met BZB.</p><p>Regisseur:Wouter Habraken is een ervaren filmmaker met een passie voor het vertellen van menselijke verhalen. Hij weet de rauwe energie en emotie van zijn onderwerpen vast te leggen encombineert dat met een visueel krachtige vertelstijl. Met echte vrienden toont hij een diep respect voor de muziek en vriendschap die BZB al 30 jaar kenmerkt.Interviews:Jan-Willem Schram, woonachtig in Breda, heeft de interviews gedaan voor ‘ECHTE VRIENDEN’. Hij maakt documentaires, liveregistraties en content voor bedrijven en artiesten. Hij houdt ervan om allesomvattende verhalen te maken voor groot en klein. Hij heeft gewerkt met ongelooflijk goede artiesten zoals: Lady Gaga &amp; Tony Bennett, Yo-Yo Ma, Muse, Bløf, Bruce Springsteen, Kanye West, Armin van Buuren, Davina Michelle en werkt nu ook met BZB!</p><p>Met een combinatie van archiefbeelden, intieme interviews en live-optredens, biedt Echte vrienden een levendige ervaring die zowel nostalgisch als energiek is. De documentaire wisselt af tussen de hectiek van het tourleven en rustige, persoonlijke momenten van reflectie. </p>
DESCRIPTION:<a href='/agenda/2025/1/24/documentaire-echte-vrienden-30-jaar-bzb-68129'>/agenda/2025/1/24/documentaire-echte-vrienden-30-jaar-bzb-68129</a> || <p>“Ontdek het hartverwarmende verhaal van ‘30 Jaar BZB: Echte vrienden’, een documentaire die de onbreekbare vriendschaptussen de bandleden van BZB (Band Zonder Banaan) in de schijnwerpers zet.Deze film neemt je mee op een muzikale reis door het jubileumjaar en laat je meekijken hoe de bandleden door de jaren heen de basis legde voor hun succes. Van vergaderingentot de grootste podia, beleef hoe de onderlinge band van de mannen hen door dik en dun heeft gedragen en hoe ze samen tot de jubileumshow zijn gekomen. “Echte vrienden” is een inspirerend eerbetoon aan de kracht van vriendschap en de magie die ontstaat als echte vrienden samen hun passie delen”Na de vertoning van de documentaire vindt er een Q&amp;A plaats met BZB.</p><p>Regisseur:Wouter Habraken is een ervaren filmmaker met een passie voor het vertellen van menselijke verhalen. Hij weet de rauwe energie en emotie van zijn onderwerpen vast te leggen encombineert dat met een visueel krachtige vertelstijl. Met echte vrienden toont hij een diep respect voor de muziek en vriendschap die BZB al 30 jaar kenmerkt.Interviews:Jan-Willem Schram, woonachtig in Breda, heeft de interviews gedaan voor ‘ECHTE VRIENDEN’. Hij maakt documentaires, liveregistraties en content voor bedrijven en artiesten. Hij houdt ervan om allesomvattende verhalen te maken voor groot en klein. Hij heeft gewerkt met ongelooflijk goede artiesten zoals: Lady Gaga &amp; Tony Bennett, Yo-Yo Ma, Muse, Bløf, Bruce Springsteen, Kanye West, Armin van Buuren, Davina Michelle en werkt nu ook met BZB!</p><p>Met een combinatie van archiefbeelden, intieme interviews en live-optredens, biedt Echte vrienden een levendige ervaring die zowel nostalgisch als energiek is. De documentaire wisselt af tussen de hectiek van het tourleven en rustige, persoonlijke momenten van reflectie. </p>
LAST-MODIFIED:20260419T134352Z
LOCATION: CC Nesterlé | Parkstraat 2 Nistelrode
SEQUENCE:0
STATUS:CONFIRMED
SUMMARY:Documentaire ‘Echte vrienden, 30 jaar BZB’
TRANSP:OPAQUE
END:VEVENT
END:VCALENDAR
