BEGIN:VCALENDAR
PRODID:-//PUBBLE//agenda//NL
VERSION:2.0
METHOD:PUBLISH
BEGIN:VEVENT
DTSTART:20250302T120000Z
DTEND:20250302T143000Z
DTSTAMP:20260425T163259Z
UID:ea04e3f3-7ba3-4109-8afc-4525a59f1603
CREATED:20260425T163259Z
NAME:Carnavalsoptocht CS de Wevers mooibernheze.nl
X-WR-CALNAME:Carnavalsoptocht CS de Wevers
X-ALT-DESC;FMTTYPE=text/html:<a href='/agenda/2025/3/2/carnavalsoptocht-cs-de-wevers-67750'>/agenda/2025/3/2/carnavalsoptocht-cs-de-wevers-67750</a> || <p>Traditiegetrouw begint op carnavalszondag, dit jaar 2 maart, om 14.00 uur de carnavalsoptocht door Nistelrode. Dit jaar hebben wij de volgende categorieën: loopgroep, wagens, individuen en jeugd tot en met 14 jaar. Een optocht maken kunnen wij niet alleen daarom nodigen wij iedereen uit om zijn creativiteit te laten zien! Omdat er helaas op vrijdag met carnaval geen jeugdoptocht meer is, doen wij een oproep aan alle jeugd om samen met je vriendjes en vriendinnetjes mee te lopen als loopgroep of een wagen te bouwen.</p><p>Carnavalsstichting de Wevers stelt prijzengeld beschikbaar voor de verschillende categorieën. Daarnaast ontvangt iedereen die deelneemt startgeld om alvast een beginnetje te maken met de bouw van hun creatie. Je kunt je aanmelden via www.de-wevers.com of door een e-mail sturen naar <a href="mailto:optocht@de-wevers.com">optocht@de-wevers.com</a>.</p>
DESCRIPTION:<a href='/agenda/2025/3/2/carnavalsoptocht-cs-de-wevers-67750'>/agenda/2025/3/2/carnavalsoptocht-cs-de-wevers-67750</a> || <p>Traditiegetrouw begint op carnavalszondag, dit jaar 2 maart, om 14.00 uur de carnavalsoptocht door Nistelrode. Dit jaar hebben wij de volgende categorieën: loopgroep, wagens, individuen en jeugd tot en met 14 jaar. Een optocht maken kunnen wij niet alleen daarom nodigen wij iedereen uit om zijn creativiteit te laten zien! Omdat er helaas op vrijdag met carnaval geen jeugdoptocht meer is, doen wij een oproep aan alle jeugd om samen met je vriendjes en vriendinnetjes mee te lopen als loopgroep of een wagen te bouwen.</p><p>Carnavalsstichting de Wevers stelt prijzengeld beschikbaar voor de verschillende categorieën. Daarnaast ontvangt iedereen die deelneemt startgeld om alvast een beginnetje te maken met de bouw van hun creatie. Je kunt je aanmelden via www.de-wevers.com of door een e-mail sturen naar <a href="mailto:optocht@de-wevers.com">optocht@de-wevers.com</a>.</p>
LAST-MODIFIED:20260425T163259Z
LOCATION: Centrum Nistelrode | Laar 28 Nistelrode
SEQUENCE:0
STATUS:CONFIRMED
SUMMARY:Carnavalsoptocht CS de Wevers
TRANSP:OPAQUE
END:VEVENT
END:VCALENDAR
