BEGIN:VCALENDAR
PRODID:-//PUBBLE//agenda//NL
VERSION:2.0
METHOD:PUBLISH
BEGIN:VEVENT
DTSTART:20250124T181500Z
DTEND:20250124T191500Z
DTSTAMP:20260419T134321Z
UID:2f4ebfbb-42a2-44d2-be38-797767cf8800
CREATED:20260419T134321Z
NAME:Documentaire Echte Vrienden, 30 jaar BZB mooibernheze.nl
X-WR-CALNAME:Documentaire Echte Vrienden, 30 jaar BZB
X-ALT-DESC;FMTTYPE=text/html:<a href='/agenda/2025/1/24/documentaire-echte-vrienden-30-jaar-bzb-67621'>/agenda/2025/1/24/documentaire-echte-vrienden-30-jaar-bzb-67621</a> || <p>Ontdek het hartverwarmende verhaal van ‘30 Jaar BZB: Echte vrienden’, een documentaire die de onbreekbare vriendschap tussen de bandleden van BZB (Band Zonder Banaan) in de schijnwerpers zet.<br /><br />Deze film neemt je mee op een muzikale reis door het&nbsp;jubileumjaar en laat je meekijken hoe de bandleden door de&nbsp;jaren heen de basis legde voor hun succes. Van vergaderingen<br />tot de grootste podia, beleef hoe de onderlinge band van de&nbsp;mannen hen door dik en dun heeft gedragen en hoe ze samen&nbsp;tot de jubileumshow zijn gekomen. “Echte vrienden” is een&nbsp;inspirerend eerbetoon aan de kracht van vriendschap en de&nbsp;magie die ontstaat als echte vrienden samen hun passie delen”<br /><br />Na de vertoning van de documentaire vindt er een Q&amp;A plaats met BZB.<br /><br />Over de makers<br />Regisseur:<br />Wouter Habraken is een ervaren filmmaker met een passie&nbsp;voor het vertellen van menselijke verhalen. Hij weet de rauwe&nbsp;energie en emotie van zijn onderwerpen vast te leggen en<br />combineert dat met een visueel krachtige vertelstijl. Met echte&nbsp;vrienden toont hij een diep&nbsp;respect voor de muziek en&nbsp;vriendschap die BZB al 30 jaar&nbsp;kenmerkt.<br /><br />Interviews<br />Jan-Willem Schram, woonachtig in Breda, heeft de interviews gedaan voor ‘Echte vrienden.’ Hij maakt documentaires, <wbr>liveregistraties en content voor bedrijven en artiesten. Hij houdt&nbsp;ervan om allesomvattende verhalen te maken voor groot en&nbsp;klein. Hij heeft gewerkt met ongelooflijk goede artiesten zoals:&nbsp;Lady Gaga &amp; Tony Bennett, Yo-Yo Ma, Muse, Bløf, Bruce&nbsp;Springsteen, Kanye West, Armin van Buuren, Davina Michelle&nbsp;en werkt nu ook met BZB!<br /><br />Met een combinatie van archiefbeelden, intieme interviews en&nbsp;live-optredens, biedt Echte vrienden een levendige ervaring die&nbsp;zowel nostalgisch als energiek is. De documentaire wisselt af&nbsp;tussen de hectiek van het tourleven en rustige, persoonlijke&nbsp;momenten van reflectie.<br /><br />Dit is je kans om de band op een hele nieuwe manier te leren kennen!<br /><br /><br /></p>
DESCRIPTION:<a href='/agenda/2025/1/24/documentaire-echte-vrienden-30-jaar-bzb-67621'>/agenda/2025/1/24/documentaire-echte-vrienden-30-jaar-bzb-67621</a> || <p>Ontdek het hartverwarmende verhaal van ‘30 Jaar BZB: Echte vrienden’, een documentaire die de onbreekbare vriendschap tussen de bandleden van BZB (Band Zonder Banaan) in de schijnwerpers zet.<br /><br />Deze film neemt je mee op een muzikale reis door het&nbsp;jubileumjaar en laat je meekijken hoe de bandleden door de&nbsp;jaren heen de basis legde voor hun succes. Van vergaderingen<br />tot de grootste podia, beleef hoe de onderlinge band van de&nbsp;mannen hen door dik en dun heeft gedragen en hoe ze samen&nbsp;tot de jubileumshow zijn gekomen. “Echte vrienden” is een&nbsp;inspirerend eerbetoon aan de kracht van vriendschap en de&nbsp;magie die ontstaat als echte vrienden samen hun passie delen”<br /><br />Na de vertoning van de documentaire vindt er een Q&amp;A plaats met BZB.<br /><br />Over de makers<br />Regisseur:<br />Wouter Habraken is een ervaren filmmaker met een passie&nbsp;voor het vertellen van menselijke verhalen. Hij weet de rauwe&nbsp;energie en emotie van zijn onderwerpen vast te leggen en<br />combineert dat met een visueel krachtige vertelstijl. Met echte&nbsp;vrienden toont hij een diep&nbsp;respect voor de muziek en&nbsp;vriendschap die BZB al 30 jaar&nbsp;kenmerkt.<br /><br />Interviews<br />Jan-Willem Schram, woonachtig in Breda, heeft de interviews gedaan voor ‘Echte vrienden.’ Hij maakt documentaires, <wbr>liveregistraties en content voor bedrijven en artiesten. Hij houdt&nbsp;ervan om allesomvattende verhalen te maken voor groot en&nbsp;klein. Hij heeft gewerkt met ongelooflijk goede artiesten zoals:&nbsp;Lady Gaga &amp; Tony Bennett, Yo-Yo Ma, Muse, Bløf, Bruce&nbsp;Springsteen, Kanye West, Armin van Buuren, Davina Michelle&nbsp;en werkt nu ook met BZB!<br /><br />Met een combinatie van archiefbeelden, intieme interviews en&nbsp;live-optredens, biedt Echte vrienden een levendige ervaring die&nbsp;zowel nostalgisch als energiek is. De documentaire wisselt af&nbsp;tussen de hectiek van het tourleven en rustige, persoonlijke&nbsp;momenten van reflectie.<br /><br />Dit is je kans om de band op een hele nieuwe manier te leren kennen!<br /><br /><br /></p>
LAST-MODIFIED:20260419T134321Z
LOCATION: CC Nesterlé | Parkstraat 2 Nistelrode
SEQUENCE:0
STATUS:CONFIRMED
SUMMARY:Documentaire Echte Vrienden, 30 jaar BZB
TRANSP:OPAQUE
END:VEVENT
END:VCALENDAR
