BEGIN:VCALENDAR
PRODID:-//PUBBLE//agenda//NL
VERSION:2.0
METHOD:PUBLISH
BEGIN:VEVENT
DTSTART:20240811T173819Z
DTEND:20240928T153000Z
DTSTAMP:20260422T172940Z
UID:f6baecce-0e37-4b7b-9fee-400ebffb8f2d
CREATED:20260422T172940Z
NAME:Open Klotbeek Toernooi mooibernheze.nl
X-WR-CALNAME:Open Klotbeek Toernooi
X-ALT-DESC;FMTTYPE=text/html:<a href='/agenda/2024/9/28/open-klotbeek-toernooi-64885'>/agenda/2024/9/28/open-klotbeek-toernooi-64885</a> || <p>HEESWIJK-DINTHER - Bridgeclub de Klotbeek organiseert zaterdag 28 september het jaarlijkse Open Klotbeek Toernooi. Het toernooi vindt plaats in CC Servaes. De deelnemers worden rond 13.00 uur met koffie/thee ontvangen en de middag zal rond 17.30 uur worden afgesloten met de prijsuitreiking. De eerste prijs is een herinneringsaardigheidje. De wisselbeker is bestemd voor het best scorende paar, waarvan tenminste één van beide bridgers lid is van de Klotbeek.</p><p>Voor méér informatie over meesterpunten, tijden, inschrijvingen en dergelijke, kijk je op de website van de Klotbeek Heeswijk-Dinther. Veel succes voor alle deelnemers en natuurlijk ook veel speelplezier.</p>
DESCRIPTION:<a href='/agenda/2024/9/28/open-klotbeek-toernooi-64885'>/agenda/2024/9/28/open-klotbeek-toernooi-64885</a> || <p>HEESWIJK-DINTHER - Bridgeclub de Klotbeek organiseert zaterdag 28 september het jaarlijkse Open Klotbeek Toernooi. Het toernooi vindt plaats in CC Servaes. De deelnemers worden rond 13.00 uur met koffie/thee ontvangen en de middag zal rond 17.30 uur worden afgesloten met de prijsuitreiking. De eerste prijs is een herinneringsaardigheidje. De wisselbeker is bestemd voor het best scorende paar, waarvan tenminste één van beide bridgers lid is van de Klotbeek.</p><p>Voor méér informatie over meesterpunten, tijden, inschrijvingen en dergelijke, kijk je op de website van de Klotbeek Heeswijk-Dinther. Veel succes voor alle deelnemers en natuurlijk ook veel speelplezier.</p>
LAST-MODIFIED:20260422T172940Z
LOCATION: CC Servaes | Raadhuisplein 24 Heeswijk-Dinther
SEQUENCE:0
STATUS:CONFIRMED
SUMMARY:Open Klotbeek Toernooi
TRANSP:OPAQUE
END:VEVENT
END:VCALENDAR
