BEGIN:VCALENDAR
PRODID:-//PUBBLE//agenda//NL
VERSION:2.0
METHOD:PUBLISH
BEGIN:VEVENT
DTSTART:20240507T101350Z
DTEND:20240519T150000Z
DTSTAMP:20260422T164609Z
UID:7c1223a0-2dd5-40d6-ab89-2e729d804b83
CREATED:20260422T164609Z
NAME:Pinksterfeesten Nistelrode; Braderie mooibernheze.nl
X-WR-CALNAME:Pinksterfeesten Nistelrode; Braderie
X-ALT-DESC;FMTTYPE=text/html:<a href='/agenda/2024/5/19/pinksterfeesten-nistelrode-braderie-63244'>/agenda/2024/5/19/pinksterfeesten-nistelrode-braderie-63244</a> || <p><a href="https://pinksterfeesten-nistelrode.nl/event/braderie/" rel="noopener noreferrer" target="_blank">Lees hier meer...</a></p>
DESCRIPTION:<a href='/agenda/2024/5/19/pinksterfeesten-nistelrode-braderie-63244'>/agenda/2024/5/19/pinksterfeesten-nistelrode-braderie-63244</a> || <p><a href="https://pinksterfeesten-nistelrode.nl/event/braderie/" rel="noopener noreferrer" target="_blank">Lees hier meer...</a></p>
LAST-MODIFIED:20260422T164609Z
LOCATION: Centrum Nistelrode | Laar 28 Nistelrode
SEQUENCE:0
STATUS:CONFIRMED
SUMMARY:Pinksterfeesten Nistelrode; Braderie
TRANSP:OPAQUE
END:VEVENT
END:VCALENDAR
