BEGIN:VCALENDAR
PRODID:-//PUBBLE//agenda//NL
VERSION:2.0
METHOD:PUBLISH
BEGIN:VEVENT
DTSTART:20220722T080022Z
DTEND:20220722T090022Z
DTSTAMP:20260424T114550Z
UID:6cac0e96-bdb3-490c-89c6-1a827691a2db
CREATED:20260424T114550Z
NAME:Guru Yoga mooibernheze.nl
X-WR-CALNAME:Guru Yoga
X-ALT-DESC;FMTTYPE=text/html:<a href='/agenda/2022/8/23/guru-yoga-49844'>/agenda/2022/8/23/guru-yoga-49844</a> || <p>De yoga van dit pad ligt buiten het gezichtsveld van het intellect en is ongrijpbaar. Hier beoefenen we geen houvast te hebben aan steunpunten en werken we met de energiecentra. De centra en spirituele energie stromen in het lichaam, met uitgebreide visualisaties en meditaties, waardoor we onze vorderingen zien die zich voordoen en zich voltrekken. We zijn aan geen omslachtige methodes gebonden, voor het beoefenen van deze praktijk kan elke situatie geschikt zijn, het opent onze ogen voor de werkelijkheid en leidt elk spoor tot de grote weg. </p><p>Meer info...<a href="https://karmaeuselling.nl/" rel="noopener noreferrer" target="_blank">klik hier</a></p>
DESCRIPTION:<a href='/agenda/2022/8/23/guru-yoga-49844'>/agenda/2022/8/23/guru-yoga-49844</a> || <p>De yoga van dit pad ligt buiten het gezichtsveld van het intellect en is ongrijpbaar. Hier beoefenen we geen houvast te hebben aan steunpunten en werken we met de energiecentra. De centra en spirituele energie stromen in het lichaam, met uitgebreide visualisaties en meditaties, waardoor we onze vorderingen zien die zich voordoen en zich voltrekken. We zijn aan geen omslachtige methodes gebonden, voor het beoefenen van deze praktijk kan elke situatie geschikt zijn, het opent onze ogen voor de werkelijkheid en leidt elk spoor tot de grote weg. </p><p>Meer info...<a href="https://karmaeuselling.nl/" rel="noopener noreferrer" target="_blank">klik hier</a></p>
LAST-MODIFIED:20260424T114550Z
LOCATION: Boeddhistisch Centrum | Heuvel 1 Vorstenbosch
SEQUENCE:0
STATUS:CONFIRMED
SUMMARY:Guru Yoga
TRANSP:OPAQUE
END:VEVENT
END:VCALENDAR
