BEGIN:VCALENDAR
PRODID:-//PUBBLE//agenda//NL
VERSION:2.0
METHOD:PUBLISH
BEGIN:VEVENT
DTSTART:20220920T073000Z
DTEND:20220920T083000Z
DTSTAMP:20260423T233549Z
UID:416e1587-8609-4dc5-9ead-996d0f9c1ce3
CREATED:20260423T233549Z
NAME:Natuur(lijk) wandelen mooibernheze.nl
X-WR-CALNAME:Natuur(lijk) wandelen
X-ALT-DESC;FMTTYPE=text/html:<a href='/agenda/2022/9/20/natuur-lijk-wandelen-49507'>/agenda/2022/9/20/natuur-lijk-wandelen-49507</a> || <p>Iedere week een paar uurtjes heerlijk in de buitenlucht bewegen om gezond en mobiel te blijven. Tegelijkertijd een goed gesprek voeren of zomaar een praatje maken met medewandelaars en na afloop nog gezellig na kletsen onder hert genot van een lekker kopje koffie. Dat kan iedere dinsdag vanaf 9.30 uur. Als je je aanmeldt krijg je iedere week een mailbericht met vertrek locatie en de te lopen route.</p><p>Routes van ongeveer 6 en 12 km. Vertrek vanaf zes verschillende locaties.</p><p>Zin om mee te gaan? Aanmelden via mailadres: <a href="mailto:heeswijk@fysiomaatwerk.nl">heeswijk@fysiomaatwerk.nl</a><br />De initiatiefgroep: Helma van Heesch, Marcel Heijmans, Christ van den Boogaard</p>
DESCRIPTION:<a href='/agenda/2022/9/20/natuur-lijk-wandelen-49507'>/agenda/2022/9/20/natuur-lijk-wandelen-49507</a> || <p>Iedere week een paar uurtjes heerlijk in de buitenlucht bewegen om gezond en mobiel te blijven. Tegelijkertijd een goed gesprek voeren of zomaar een praatje maken met medewandelaars en na afloop nog gezellig na kletsen onder hert genot van een lekker kopje koffie. Dat kan iedere dinsdag vanaf 9.30 uur. Als je je aanmeldt krijg je iedere week een mailbericht met vertrek locatie en de te lopen route.</p><p>Routes van ongeveer 6 en 12 km. Vertrek vanaf zes verschillende locaties.</p><p>Zin om mee te gaan? Aanmelden via mailadres: <a href="mailto:heeswijk@fysiomaatwerk.nl">heeswijk@fysiomaatwerk.nl</a><br />De initiatiefgroep: Helma van Heesch, Marcel Heijmans, Christ van den Boogaard</p>
LAST-MODIFIED:20260423T233549Z
LOCATION: Vakantiepark Zevenbergen | Vergaertweg 4 Heesch
SEQUENCE:0
STATUS:CONFIRMED
SUMMARY:Natuur(lijk) wandelen
TRANSP:OPAQUE
END:VEVENT
END:VCALENDAR
