BEGIN:VCALENDAR
PRODID:-//PUBBLE//agenda//NL
VERSION:2.0
METHOD:PUBLISH
BEGIN:VEVENT
DTSTART:20220619T220000Z
DTEND:20220706T093000Z
DTSTAMP:20260425T102128Z
UID:0a7bfeff-305a-49ff-bc9a-8775d331a800
CREATED:20260425T102128Z
NAME:Koffie ochtend mooibernheze.nl
X-WR-CALNAME:Koffie ochtend
X-ALT-DESC;FMTTYPE=text/html:<a href='/agenda/2022/7/6/koffie-ochtend-49152'>/agenda/2022/7/6/koffie-ochtend-49152</a> || <p style="margin: 0 0 0.0001pt; font-size: 15px; font-family: &quot;Calibri&quot;, &quot;sans-serif&quot;">Een medewerker van de Bibliotheek geeft een presentatie over het aanbod voor ouderen bij Stichting Zorgvoorziening Vorstenbosch.</p>
DESCRIPTION:<a href='/agenda/2022/7/6/koffie-ochtend-49152'>/agenda/2022/7/6/koffie-ochtend-49152</a> || <p style="margin: 0 0 0.0001pt; font-size: 15px; font-family: &quot;Calibri&quot;, &quot;sans-serif&quot;">Een medewerker van de Bibliotheek geeft een presentatie over het aanbod voor ouderen bij Stichting Zorgvoorziening Vorstenbosch.</p>
LAST-MODIFIED:20260425T102128Z
LOCATION: MFA De Stuik | Schoolstraat 14 Vorstenbosch
SEQUENCE:0
STATUS:CONFIRMED
SUMMARY:Koffie ochtend
TRANSP:OPAQUE
END:VEVENT
END:VCALENDAR
