BEGIN:VCALENDAR
PRODID:-//PUBBLE//agenda//NL
VERSION:2.0
METHOD:PUBLISH
BEGIN:VEVENT
DTSTART:20220616T220000Z
DTEND:20220616T230000Z
DTSTAMP:20260423T095859Z
UID:da6ec8c5-33cb-40d5-8325-f04e84972dd8
CREATED:20260423T095859Z
NAME:Open zondag mooibernheze.nl
X-WR-CALNAME:Open zondag
X-ALT-DESC;FMTTYPE=text/html:<a href='/agenda/2022/6/26/open-zondag-49141'>/agenda/2022/6/26/open-zondag-49141</a> || <p>Deze zondag is Van Tilburg Mode en Sport geopend. Kom je gezellig langs om je nieuwe outfit te shoppen? Van 12.00 tot 17.00 uur staan ze voor je klaar. &nbsp; &nbsp; &nbsp;</p>
DESCRIPTION:<a href='/agenda/2022/6/26/open-zondag-49141'>/agenda/2022/6/26/open-zondag-49141</a> || <p>Deze zondag is Van Tilburg Mode en Sport geopend. Kom je gezellig langs om je nieuwe outfit te shoppen? Van 12.00 tot 17.00 uur staan ze voor je klaar. &nbsp; &nbsp; &nbsp;</p>
LAST-MODIFIED:20260423T095859Z
LOCATION: Van Tilburg Mode en Sport | Laar 8 Nistelrode
SEQUENCE:0
STATUS:CONFIRMED
SUMMARY:Open zondag
TRANSP:OPAQUE
END:VEVENT
END:VCALENDAR
