BEGIN:VCALENDAR
PRODID:-//PUBBLE//agenda//NL
VERSION:2.0
METHOD:PUBLISH
BEGIN:VEVENT
DTSTART:20220526T220000Z
DTEND:20220526T230000Z
DTSTAMP:20260424T111551Z
UID:b01f3467-ef78-4d51-8f40-e277ba6894f1
CREATED:20260424T111551Z
NAME:Rondleiding Whiskystokerij mooibernheze.nl
X-WR-CALNAME:Rondleiding Whiskystokerij
X-ALT-DESC;FMTTYPE=text/html:<a href='/agenda/2022/6/7/rondleiding-whiskystokerij-48795'>/agenda/2022/6/7/rondleiding-whiskystokerij-48795</a> || <p>De whiskystokerij en het boerderijrestaurant van Bus Whisky zijn 7 dagen per week geopend. Elke dag om 13.30 en om 16.00 uur zijn er whisky rondleidingen.</p><p><strong>Rondleiding whiskystokerij dagelijks om 13.30 uur en 16.00 uur € 12,50 (vanaf 1 persoon)</strong></p><p>Een rondleiding door de distillery, warehouse, bottelarij en slijterij duurt ongeveer 45 minuten en kost € 12,50 per persoon. De groepsgrootte is beperkt. Vooraf reserveren is daarom wenselijk en kan heel eenvoudig online. Een rondleiding is te combineren met een lunch vooraf in het boerderijrestaurant of een diner na afloop. Voor groepen vanaf 12 personen zijn op reservering ook rondleidingen op andere tijdstippen mogelijk.</p><p><strong>Bus Whisky Distillers BV</strong><br />Heideweg 1a<br />5472 LC Loosbroek<br />0413-418016<strong><br /></strong><a href="mailto:info@buswhisky.com"><strong>info@buswhisky.com</strong></a><strong>&nbsp;</strong><strong><br /></strong><a href="http://www.buswhisky.com/" target="_blank"><strong>www.buswhisky.com</strong></a></p>
DESCRIPTION:<a href='/agenda/2022/6/7/rondleiding-whiskystokerij-48795'>/agenda/2022/6/7/rondleiding-whiskystokerij-48795</a> || <p>De whiskystokerij en het boerderijrestaurant van Bus Whisky zijn 7 dagen per week geopend. Elke dag om 13.30 en om 16.00 uur zijn er whisky rondleidingen.</p><p><strong>Rondleiding whiskystokerij dagelijks om 13.30 uur en 16.00 uur € 12,50 (vanaf 1 persoon)</strong></p><p>Een rondleiding door de distillery, warehouse, bottelarij en slijterij duurt ongeveer 45 minuten en kost € 12,50 per persoon. De groepsgrootte is beperkt. Vooraf reserveren is daarom wenselijk en kan heel eenvoudig online. Een rondleiding is te combineren met een lunch vooraf in het boerderijrestaurant of een diner na afloop. Voor groepen vanaf 12 personen zijn op reservering ook rondleidingen op andere tijdstippen mogelijk.</p><p><strong>Bus Whisky Distillers BV</strong><br />Heideweg 1a<br />5472 LC Loosbroek<br />0413-418016<strong><br /></strong><a href="mailto:info@buswhisky.com"><strong>info@buswhisky.com</strong></a><strong>&nbsp;</strong><strong><br /></strong><a href="http://www.buswhisky.com/" target="_blank"><strong>www.buswhisky.com</strong></a></p>
LAST-MODIFIED:20260424T111551Z
LOCATION: Bus Whisky Distillers BV | Heideweg 1a Loosbroek
SEQUENCE:0
STATUS:CONFIRMED
SUMMARY:Rondleiding Whiskystokerij
TRANSP:OPAQUE
END:VEVENT
END:VCALENDAR
