BEGIN:VCALENDAR
PRODID:-//PUBBLE//agenda//NL
VERSION:2.0
METHOD:PUBLISH
BEGIN:VEVENT
DTSTART:20220527T180000Z
DTEND:20220527T190000Z
DTSTAMP:20260425T115425Z
UID:164e4af9-ea81-4536-9790-0c5cbd4fcfec
CREATED:20260425T115425Z
NAME:De Pas proeft...Cocktails mooibernheze.nl
X-WR-CALNAME:De Pas proeft...Cocktails
X-ALT-DESC;FMTTYPE=text/html:<a href='/agenda/2022/5/27/de-pas-proeft-cocktails-48387'>/agenda/2022/5/27/de-pas-proeft-cocktails-48387</a> || <p>Wil jij voor een avond een echte bartender zijn? Meld je dan aan voor de Cocktailworkshop bij de Pas in Heesch!</p><p>Op vrijdag 8 juli om 20.00 uur gaat het gebeuren, elke aanmelding krijgt zijn eigen cocktail station om vervolgens de kneepjes van het vak te leren!<br />Je gaat drie cocktails maken aan de hand van de weetjes die de ervaren bartender jou heeft geleerd!</p><p>Ook krijg je vijf verschillende proefglazen met gin tonic, belangrijk dat we weten hoe alles smaakt natuurlijk!<br />Durf jij de uitdaging aan? Of gewoon zin in een leuk uitje? Wel of geen kennis, je bent van harte welkom!</p><p>Meer info...<a href="https://de-pas.nl/programma/de-pas-proeft-cocktails/" rel="noopener noreferrer" target="_blank">klik hier</a></p>
DESCRIPTION:<a href='/agenda/2022/5/27/de-pas-proeft-cocktails-48387'>/agenda/2022/5/27/de-pas-proeft-cocktails-48387</a> || <p>Wil jij voor een avond een echte bartender zijn? Meld je dan aan voor de Cocktailworkshop bij de Pas in Heesch!</p><p>Op vrijdag 8 juli om 20.00 uur gaat het gebeuren, elke aanmelding krijgt zijn eigen cocktail station om vervolgens de kneepjes van het vak te leren!<br />Je gaat drie cocktails maken aan de hand van de weetjes die de ervaren bartender jou heeft geleerd!</p><p>Ook krijg je vijf verschillende proefglazen met gin tonic, belangrijk dat we weten hoe alles smaakt natuurlijk!<br />Durf jij de uitdaging aan? Of gewoon zin in een leuk uitje? Wel of geen kennis, je bent van harte welkom!</p><p>Meer info...<a href="https://de-pas.nl/programma/de-pas-proeft-cocktails/" rel="noopener noreferrer" target="_blank">klik hier</a></p>
LAST-MODIFIED:20260425T115425Z
LOCATION: CC De Pas | De Misse 4 Heesch
SEQUENCE:0
STATUS:CONFIRMED
SUMMARY:De Pas proeft...Cocktails
TRANSP:OPAQUE
END:VEVENT
END:VCALENDAR
