BEGIN:VCALENDAR
PRODID:-//PUBBLE//agenda//NL
VERSION:2.0
METHOD:PUBLISH
BEGIN:VEVENT
DTSTART:20220521T110000Z
DTEND:20220521T140000Z
DTSTAMP:20260424T101832Z
UID:3d8a78d2-3b4f-4b6d-b9c9-5748685eeb13
CREATED:20260424T101832Z
NAME:Rondleidingen mooibernheze.nl
X-WR-CALNAME:Rondleidingen
X-ALT-DESC;FMTTYPE=text/html:<a href='/agenda/2022/5/21/rondleidingen-48354'>/agenda/2022/5/21/rondleidingen-48354</a> || <p>In de eeuwenoude boerderij ervaar je hoe je voorouders hier leefden.</p><p>Meer info...<a href="https://www.museumboerderij.nl/" rel="noopener noreferrer" target="_blank">klik hier</a> </p>
DESCRIPTION:<a href='/agenda/2022/5/21/rondleidingen-48354'>/agenda/2022/5/21/rondleidingen-48354</a> || <p>In de eeuwenoude boerderij ervaar je hoe je voorouders hier leefden.</p><p>Meer info...<a href="https://www.museumboerderij.nl/" rel="noopener noreferrer" target="_blank">klik hier</a> </p>
LAST-MODIFIED:20260424T101832Z
LOCATION: Meierijsche Museumboerderij | Meerstraat 28 Heeswijk-Dinther
SEQUENCE:0
STATUS:CONFIRMED
SUMMARY:Rondleidingen
TRANSP:OPAQUE
END:VEVENT
END:VCALENDAR
