BEGIN:VCALENDAR
PRODID:-//PUBBLE//agenda//NL
VERSION:2.0
METHOD:PUBLISH
BEGIN:VEVENT
DTSTART:20220325T111201Z
DTEND:20220325T121201Z
DTSTAMP:20260424T102315Z
UID:cd9a2886-aace-4c9d-aad2-15f9e63b2f32
CREATED:20260424T102315Z
NAME:Open dag Kledingbank ’t Bernhezer Pakhuijs mooibernheze.nl
X-WR-CALNAME:Open dag Kledingbank ’t Bernhezer Pakhuijs
X-ALT-DESC;FMTTYPE=text/html:<a href='/agenda/2022/4/2/open-dag-kledingbank-t-bernhezer-pakhuijs-47526'>/agenda/2022/4/2/open-dag-kledingbank-t-bernhezer-pakhuijs-47526</a> || <p>Zaterdag 2 april wordt er van 13.00 tot 16.00 uur een open dag gehouden bij ’t Bernhezer Pakhuijs! Op deze dag is iedereen welkom en mag kleding uitzoeken!</p><p>We gaan ruimte maken voor de zomercollectie!<br />Ben je een ingeschreven lid van de Kledingbank? Dan mag je gratis kledingstukken meenemen. Ben je geen lid van de Kledingbank? Dan mag je kledingstukken meenemen voor € 1,- per stuk. Van deze opbrengsten kan de Kledingbank nieuw ondergoed en sokken aanschaffen!</p><p>Het adres is Tramstraat 13. Onze reguliere openingstijden zijn maandag en dinsdag van 10.00 tot 13.00 uur en woensdag van 18.00 tot 20.00 uur.</p>
DESCRIPTION:<a href='/agenda/2022/4/2/open-dag-kledingbank-t-bernhezer-pakhuijs-47526'>/agenda/2022/4/2/open-dag-kledingbank-t-bernhezer-pakhuijs-47526</a> || <p>Zaterdag 2 april wordt er van 13.00 tot 16.00 uur een open dag gehouden bij ’t Bernhezer Pakhuijs! Op deze dag is iedereen welkom en mag kleding uitzoeken!</p><p>We gaan ruimte maken voor de zomercollectie!<br />Ben je een ingeschreven lid van de Kledingbank? Dan mag je gratis kledingstukken meenemen. Ben je geen lid van de Kledingbank? Dan mag je kledingstukken meenemen voor € 1,- per stuk. Van deze opbrengsten kan de Kledingbank nieuw ondergoed en sokken aanschaffen!</p><p>Het adres is Tramstraat 13. Onze reguliere openingstijden zijn maandag en dinsdag van 10.00 tot 13.00 uur en woensdag van 18.00 tot 20.00 uur.</p>
LAST-MODIFIED:20260424T102315Z
LOCATION: Kledingbank 't Bernhezer Pakhuijs | Tramstraat 13 Nistelrode
SEQUENCE:0
STATUS:CONFIRMED
SUMMARY:Open dag Kledingbank ’t Bernhezer Pakhuijs
TRANSP:OPAQUE
END:VEVENT
END:VCALENDAR
